View In:
ArcGIS JavaScript
ArcGIS Online Map Viewer
ArcGIS Earth
Service Description: GCF/egdb_sde_AP_Physical
Name: GCF/egdb_sde_AP_Physical
Description:
Single Fused Map Cache: false
Extent:
XMin: 8922458.197219193
YMin: 1751639.865440728
XMax: 9443566.938717961
YMax: 2182543.562083482
Spatial Reference: 102100
(3857)
Initial Extent:
XMin: 8922458.197219193
YMin: 1751639.865440728
XMax: 9443566.938717961
YMax: 2182543.562083482
Spatial Reference: 102100
(3857)
Full Extent:
XMin: 8922458.197219193
YMin: 1751639.865440728
XMax: 9443566.938717961
YMax: 2182543.562083482
Spatial Reference: 102100
(3857)
Pixel Size X: 30.590474992589865
Pixel Size Y: 30.580065051646717
Band Count: 1
Pixel Type: S8
RasterFunction Infos: {"rasterFunctionInfos": [{
"name": "None",
"description": "",
"help": ""
}]}
Mensuration Capabilities: Basic
Inspection Capabilities:
Has Histograms: true
Has Colormap: false
Has Multi Dimensions : false
Rendering Rule:
Min Scale: 0
Max Scale: 0
Copyright Text:
Service Data Type: esriImageServiceDataTypeThematic
Min Values: 0
Max Values: 127
Mean Values: 5.015626004454212
Standard Deviation Values: 24.695185852959128
Object ID Field:
Fields:
None
Default Mosaic Method: Center
Allowed Mosaic Methods:
SortField:
SortValue: null
Mosaic Operator: First
Default Compression Quality: 75
Default Resampling Method: Bilinear
Max Record Count: null
Max Image Height: 4100
Max Image Width: 15000
Max Download Image Count: null
Max Mosaic Image Count: null
Allow Raster Function: true
Allow Copy: true
Allow Analysis: true
Allow Compute TiePoints: false
Supports Statistics: false
Supports Advanced Queries: false
Use StandardizedQueries: true
Raster Type Infos:
Name: Raster Dataset
Description: Supports all ArcGIS Raster Datasets
Help:
Has Raster Attribute Table: true
Edit Fields Info: null
Ownership Based AccessControl For Rasters: null
Child Resources:
Info
Raster Attribute Table
Histograms
Statistics
Key Properties
Legend
Raster Function Infos
Supported Operations:
Export Image
Identify
Measure
Compute Histograms
Compute Statistics Histograms
Get Samples
Compute Class Statistics
Query Boundary
Compute Pixel Location
Compute Angles
Validate
Project