View In:
ArcGIS JavaScript
ArcGIS Online Map Viewer
ArcGIS Earth
Service Description: GCF/Multi_Vul_Slice
Name: GCF/Multi_Vul_Slice
Description:
Single Fused Map Cache: false
Extent:
XMin: 8922458.197219193
YMin: 1751639.8654407281
XMax: 9443566.938717961
YMax: 2182537.296186349
Spatial Reference: 102100
(3857)
Initial Extent:
XMin: 8922458.197219193
YMin: 1751639.8654407281
XMax: 9443566.938717961
YMax: 2182537.296186349
Spatial Reference: 102100
(3857)
Full Extent:
XMin: 8922458.197219193
YMin: 1751639.8654407281
XMax: 9443566.938717961
YMax: 2182537.296186349
Spatial Reference: 102100
(3857)
Pixel Size X: 30.590474992589865
Pixel Size Y: 30.590474992589858
Band Count: 1
Pixel Type: U4
RasterFunction Infos: {"rasterFunctionInfos": [
{
"name": "None",
"description": "Make a Raster or Raster Dataset into a Function Raster Dataset.",
"help": ""
},
{
"name": "FLood",
"description": "A raster function template.",
"help": ""
}
]}
Mensuration Capabilities: Basic
Inspection Capabilities:
Has Histograms: true
Has Colormap: false
Has Multi Dimensions : true
Rendering Rule:
Min Scale: 0
Max Scale: 0
Copyright Text:
Service Data Type: esriImageServiceDataTypeGeneric
Min Values: 1
Max Values: 3
Mean Values: 2.4645330906516967
Standard Deviation Values: 0.6856469488384095
Object ID Field: OBJECTID
Fields:
-
OBJECTID
(
type: esriFieldTypeOID, alias: OBJECTID
)
-
Shape
(
type: esriFieldTypeGeometry, alias: Shape
)
-
Name
(
type: esriFieldTypeString, alias: Name, length: 200
)
-
MinPS
(
type: esriFieldTypeDouble, alias: MinPS
)
-
MaxPS
(
type: esriFieldTypeDouble, alias: MaxPS
)
-
LowPS
(
type: esriFieldTypeDouble, alias: LowPS
)
-
HighPS
(
type: esriFieldTypeDouble, alias: HighPS
)
-
Category
(
type: esriFieldTypeInteger, alias: Category
, Coded Values:
[0: Unknown]
, [1: Primary]
, [2: Overview]
, ...6 more...
)
-
Tag
(
type: esriFieldTypeString, alias: Tag, length: 100
)
-
GroupName
(
type: esriFieldTypeString, alias: GroupName, length: 100
)
-
ProductName
(
type: esriFieldTypeString, alias: ProductName, length: 100
)
-
CenterX
(
type: esriFieldTypeDouble, alias: CenterX
)
-
CenterY
(
type: esriFieldTypeDouble, alias: CenterY
)
-
ZOrder
(
type: esriFieldTypeInteger, alias: ZOrder
)
-
Shape_Length
(
type: esriFieldTypeDouble, alias: Shape_Length
)
-
Shape_Area
(
type: esriFieldTypeDouble, alias: Shape_Area
)
-
RasInfo
(
type: esriFieldTypeString, alias: RasInfo, length: 255
)
-
Year
(
type: esriFieldTypeInteger, alias: Year
)
-
Dimensions
(
type: esriFieldTypeString, alias: Dimensions, length: 50
)
-
Variable
(
type: esriFieldTypeString, alias: Variable, length: 50
)
Default Mosaic Method: None
Allowed Mosaic Methods: None,NorthWest,Center,LockRaster,ByAttribute,Nadir,Viewpoint,Seamline
SortField: N/A
SortValue: N/A
Mosaic Operator: First
Default Compression Quality: 75
Default Resampling Method: Bilinear
Max Record Count: 1000
Max Image Height: 4100
Max Image Width: 15000
Max Download Image Count: 20
Max Mosaic Image Count: 20
Allow Raster Function: true
Allow Copy: true
Allow Analysis: true
Allow Compute TiePoints: false
Supports Statistics: true
Supports Advanced Queries: true
Use StandardizedQueries: true
Raster Type Infos:
Name: Raster Dataset
Description: Supports all ArcGIS Raster Datasets
Help:
Has Raster Attribute Table: false
Edit Fields Info: null
Ownership Based AccessControl For Rasters: null
Child Resources:
Info
Histograms
Statistics
Key Properties
Legend
Raster Function Infos
Multidimensional Info
Slices
Supported Operations:
Export Image
Query
Identify
Measure
Compute Histograms
Compute Statistics Histograms
Get Samples
Compute Class Statistics
Query GPS Info
Find Images
Image to Map
Map to Image
Measure from Image
Image to Map Multiray
Query Boundary
Compute Pixel Location
Compute Angles
Validate
Project